BEGIN:VCALENDAR
VERSION:2.0
PRODID:-//Tiger &amp; Turtle - ECPv6.15.20//NONSGML v1.0//EN
CALSCALE:GREGORIAN
METHOD:PUBLISH
X-ORIGINAL-URL:https://tiger-turtle.com
X-WR-CALDESC:Events for Tiger &amp; Turtle
REFRESH-INTERVAL;VALUE=DURATION:PT1H
X-Robots-Tag:noindex
X-PUBLISHED-TTL:PT1H
BEGIN:VTIMEZONE
TZID:Europe/Amsterdam
BEGIN:DAYLIGHT
TZOFFSETFROM:+0100
TZOFFSETTO:+0200
TZNAME:CEST
DTSTART:20220327T010000
END:DAYLIGHT
BEGIN:STANDARD
TZOFFSETFROM:+0200
TZOFFSETTO:+0100
TZNAME:CET
DTSTART:20221030T010000
END:STANDARD
BEGIN:DAYLIGHT
TZOFFSETFROM:+0100
TZOFFSETTO:+0200
TZNAME:CEST
DTSTART:20230326T010000
END:DAYLIGHT
BEGIN:STANDARD
TZOFFSETFROM:+0200
TZOFFSETTO:+0100
TZNAME:CET
DTSTART:20231029T010000
END:STANDARD
BEGIN:DAYLIGHT
TZOFFSETFROM:+0100
TZOFFSETTO:+0200
TZNAME:CEST
DTSTART:20240331T010000
END:DAYLIGHT
BEGIN:STANDARD
TZOFFSETFROM:+0200
TZOFFSETTO:+0100
TZNAME:CET
DTSTART:20241027T010000
END:STANDARD
END:VTIMEZONE
BEGIN:VEVENT
DTSTART;TZID=Europe/Amsterdam:20231016T080000
DTEND;TZID=Europe/Amsterdam:20231016T170000
DTSTAMP:20260423T162839
CREATED:20231002T081355Z
LAST-MODIFIED:20231002T081355Z
UID:29471-1697443200-1697475600@tiger-turtle.com
SUMMARY:Female Stress Release Toolbox Program Start
DESCRIPTION:Wanna join? Book your spot here for our only female focused stress release virtual retreat of 2023> https://tiger-turtle.com/stress-release-toolbox-course/
URL:https://tiger-turtle.com/event/female-stress-release-toolbox-program-start/
END:VEVENT
BEGIN:VEVENT
DTSTART;VALUE=DATE:20231020
DTEND;VALUE=DATE:20231029
DTSTAMP:20260423T162839
CREATED:20230413T095359Z
LAST-MODIFIED:20230413T095359Z
UID:29135-1697760000-1698537599@tiger-turtle.com
SUMMARY:Robinson Yoga & Breathwork Woche Griechenland Kyllini
DESCRIPTION:Buchen unter www.robinson.com – kyllini Club
URL:https://tiger-turtle.com/event/robinson-yoga-breathwork-woche-griechenland-kyllini/
END:VEVENT
BEGIN:VEVENT
DTSTART;TZID=Europe/Amsterdam:20231027T080000
DTEND;TZID=Europe/Amsterdam:20231027T170000
DTSTAMP:20260423T162839
CREATED:20231027T102148Z
LAST-MODIFIED:20231027T102148Z
UID:29540-1698393600-1698426000@tiger-turtle.com
SUMMARY:Deutsche Breathwork-Reise
DESCRIPTION:https://calendly.com/jolehmann-breathwork/live-breathwork-on-zoom?month=2023-10 \nWie schön\, dass du hier bist! \nMelde dich jetzt für meine monatliche transformative Breathwork-Reise an\, um tiefe Entspannung\, Stressabbau und Verbindung mit dir selbst und der Welt um dich herum zu erfahren! \nJede Sitzung dauert ca. 75 Minuten und besteht aus: \n20:00 – 21:00 Uhr Breathwork\nGefolgt von 10 – 15 Minuten Fragen und Antworten \nWenn du es nicht live schaffst\, teile ich gern das Recording mit dir. \nDurch das Bestellen deines Teilnahme Tickets\, stimmst du zu\, dass du die Teilnahmebedingungen und Kontraindikationen verstanden und gelesen hast: https://tiger-turtle.com/waiver/
URL:https://tiger-turtle.com/event/deutsche-breathwork-reise/
END:VEVENT
BEGIN:VEVENT
DTSTART;TZID=Europe/Amsterdam:20231027T080000
DTEND;TZID=Europe/Amsterdam:20231027T170000
DTSTAMP:20260423T162839
CREATED:20231027T102326Z
LAST-MODIFIED:20231027T102326Z
UID:29544-1698393600-1698426000@tiger-turtle.com
SUMMARY:Live Breathwork Event
DESCRIPTION:Destress & Recharge Starter Program \n \nEnglish Live Breathwork  \nWomen only: Transformative Breathwork on 15th Nov 8pm CET
URL:https://tiger-turtle.com/event/live-breathwork-event/
END:VEVENT
BEGIN:VEVENT
DTSTART;VALUE=DATE:20231029
DTEND;VALUE=DATE:20231105
DTSTAMP:20260423T162839
CREATED:20230413T095457Z
LAST-MODIFIED:20230413T095457Z
UID:29137-1698537600-1699142399@tiger-turtle.com
SUMMARY:Yoga & Breathwork Robinson Crete
DESCRIPTION:Buchen unter www.robinson.com – Crete Robinson
URL:https://tiger-turtle.com/event/yoga-breathwork-robinson-crete/
END:VEVENT
END:VCALENDAR