BEGIN:VCALENDAR
VERSION:2.0
PRODID:-//Tiger &amp; Turtle - ECPv6.15.20//NONSGML v1.0//EN
CALSCALE:GREGORIAN
METHOD:PUBLISH
X-WR-CALNAME:Tiger &amp; Turtle
X-ORIGINAL-URL:https://tiger-turtle.com
X-WR-CALDESC:Events for Tiger &amp; Turtle
REFRESH-INTERVAL;VALUE=DURATION:PT1H
X-Robots-Tag:noindex
X-PUBLISHED-TTL:PT1H
BEGIN:VTIMEZONE
TZID:Europe/Amsterdam
BEGIN:DAYLIGHT
TZOFFSETFROM:+0100
TZOFFSETTO:+0200
TZNAME:CEST
DTSTART:20220327T010000
END:DAYLIGHT
BEGIN:STANDARD
TZOFFSETFROM:+0200
TZOFFSETTO:+0100
TZNAME:CET
DTSTART:20221030T010000
END:STANDARD
BEGIN:DAYLIGHT
TZOFFSETFROM:+0100
TZOFFSETTO:+0200
TZNAME:CEST
DTSTART:20230326T010000
END:DAYLIGHT
BEGIN:STANDARD
TZOFFSETFROM:+0200
TZOFFSETTO:+0100
TZNAME:CET
DTSTART:20231029T010000
END:STANDARD
BEGIN:DAYLIGHT
TZOFFSETFROM:+0100
TZOFFSETTO:+0200
TZNAME:CEST
DTSTART:20240331T010000
END:DAYLIGHT
BEGIN:STANDARD
TZOFFSETFROM:+0200
TZOFFSETTO:+0100
TZNAME:CET
DTSTART:20241027T010000
END:STANDARD
END:VTIMEZONE
BEGIN:VEVENT
DTSTART;TZID=Europe/Amsterdam:20230623T110000
DTEND;TZID=Europe/Amsterdam:20230623T180000
DTSTAMP:20260424T073852
CREATED:20230413T094745Z
LAST-MODIFIED:20230413T094833Z
UID:29128-1687518000-1687543200@tiger-turtle.com
SUMMARY:1 Day Breathmagic Retreat
DESCRIPTION:Hey\, my ladies!  Are you ready to take your self-care routine to the next level? I’m excited to announce that I will be hosting a one-day live retreat in the Mind Spa of Rituals in downtown Amsterdam on June 23\, designed specifically for female entrepreneurs\, creatives\, and professionals like you! \n\n\nDuring this retreat\, you’ll learn powerful breathwork tools that are easy to master and will have a positive impact on your daily life & work and explore new tools like movement\, sound therapy and the power of raw cacao.  Plus\, you’ll have the opportunity to network with like-minded women and learn self care tools to energize and ground yourself on a daily basis in less than 15 minutes.\n\n\nSign up now and reserve your spot:https://tiger-turtle.com/retreat/  Early bird space is limited\, so act fast!\n\n\nI can’t wait to see you there!
URL:https://tiger-turtle.com/event/1-day-breathmagic-retreat/
LOCATION:Mind Spa Amsterdam
END:VEVENT
BEGIN:VEVENT
DTSTART;VALUE=DATE:20230629
DTEND;VALUE=DATE:20230703
DTSTAMP:20260424T073852
CREATED:20230413T095249Z
LAST-MODIFIED:20230413T095249Z
UID:29133-1687996800-1688342399@tiger-turtle.com
SUMMARY:Yoga & Breathwork - Bewusstes Atmen Retreat
DESCRIPTION:4 Tage Yoga und Breathwork – hier findest du weitere Details: https://www.daskranzbach.de/de/yoga-workshops.html \nDas komplette Programm hier:\nhttps://www.daskranzbach.de/media/yoga-breathwork-johanna-lehmann-29.juni-2.juli2023-3.pdf
URL:https://tiger-turtle.com/event/yoga-breathwork-bewusstes-atmen-retreat/
END:VEVENT
END:VCALENDAR